BEGIN:VCALENDAR
VERSION:2.0
PRODID:-//Slovenská asociácia zrakovo postihnutých športovcov - ECPv5.16.4//NONSGML v1.0//EN
CALSCALE:GREGORIAN
METHOD:PUBLISH
X-WR-CALNAME:Slovenská asociácia zrakovo postihnutých športovcov
X-ORIGINAL-URL:https://sazps.sk
X-WR-CALDESC:Udalosti pre Slovenská asociácia zrakovo postihnutých športovcov
BEGIN:VTIMEZONE
TZID:Europe/Bratislava
BEGIN:DAYLIGHT
TZOFFSETFROM:+0100
TZOFFSETTO:+0200
TZNAME:CEST
DTSTART:20250330T010000
END:DAYLIGHT
BEGIN:STANDARD
TZOFFSETFROM:+0200
TZOFFSETTO:+0100
TZNAME:CET
DTSTART:20251026T010000
END:STANDARD
END:VTIMEZONE
BEGIN:VEVENT
DTSTART;TZID=Europe/Bratislava:20250222T100000
DTEND;TZID=Europe/Bratislava:20250222T170000
DTSTAMP:20260422T174059
CREATED:20250210T225712Z
LAST-MODIFIED:20250210T225712Z
UID:2053-1740218400-1740243600@sazps.sk
SUMMARY:Zasadnutie komisie turistiky SAZPŠ v Žiline
DESCRIPTION:
URL:https://sazps.sk/udalosti/zasadnutie-komisie-turistiky-sazps-v-ziline/
LOCATION:Žilina\, Žiina\, Slovenská republika
CATEGORIES:Turistika
END:VEVENT
END:VCALENDAR