BEGIN:VCALENDAR
VERSION:2.0
PRODID:-//Slovenská asociácia zrakovo postihnutých športovcov - ECPv5.16.4//NONSGML v1.0//EN
CALSCALE:GREGORIAN
METHOD:PUBLISH
X-WR-CALNAME:Slovenská asociácia zrakovo postihnutých športovcov
X-ORIGINAL-URL:https://sazps.sk
X-WR-CALDESC:Udalosti pre Slovenská asociácia zrakovo postihnutých športovcov
BEGIN:VTIMEZONE
TZID:Europe/Bratislava
BEGIN:DAYLIGHT
TZOFFSETFROM:+0100
TZOFFSETTO:+0200
TZNAME:CEST
DTSTART:20240331T010000
END:DAYLIGHT
BEGIN:STANDARD
TZOFFSETFROM:+0200
TZOFFSETTO:+0100
TZNAME:CET
DTSTART:20241027T010000
END:STANDARD
END:VTIMEZONE
BEGIN:VEVENT
DTSTART;VALUE=DATE:20240530
DTEND;VALUE=DATE:20240608
DTSTAMP:20260422T115652
CREATED:20240304T212705Z
LAST-MODIFIED:20240304T212847Z
UID:1584-1717027200-1717804799@sazps.sk
SUMMARY:WSPS European Championships - Majstrovstvá Európy v parastreľbe zo vzduchovej pušky na 10 m
DESCRIPTION:
URL:https://sazps.sk/udalosti/wsps-european-championships-majstrovstva-europy-v-parastrelbe-zo-vzduchovej-pusky-na-10-m/
LOCATION:Granada\, Granada\, Španielsko
CATEGORIES:Streľba
END:VEVENT
END:VCALENDAR