BEGIN:VCALENDAR
VERSION:2.0
PRODID:-//Slovenská asociácia zrakovo postihnutých športovcov - ECPv5.16.4//NONSGML v1.0//EN
CALSCALE:GREGORIAN
METHOD:PUBLISH
X-WR-CALNAME:Slovenská asociácia zrakovo postihnutých športovcov
X-ORIGINAL-URL:https://sazps.sk
X-WR-CALDESC:Udalosti pre Slovenská asociácia zrakovo postihnutých športovcov
BEGIN:VTIMEZONE
TZID:Europe/Bratislava
BEGIN:DAYLIGHT
TZOFFSETFROM:+0100
TZOFFSETTO:+0200
TZNAME:CEST
DTSTART:20230326T010000
END:DAYLIGHT
BEGIN:STANDARD
TZOFFSETFROM:+0200
TZOFFSETTO:+0100
TZNAME:CET
DTSTART:20231029T010000
END:STANDARD
END:VTIMEZONE
BEGIN:VEVENT
DTSTART;TZID=Europe/Bratislava:20230211T090000
DTEND;TZID=Europe/Bratislava:20230211T140000
DTSTAMP:20260422T212527
CREATED:20230206T095402Z
LAST-MODIFIED:20230206T095455Z
UID:1006-1676106000-1676124000@sazps.sk
SUMMARY:Volebné valné zhromaždenie do orgánov SAZPŠ
DESCRIPTION:Pozvánka na Volebné valné zhromaždenie \nZoznam kandidátov a delegátov na Volebné valné zhromaždenie SAZPŠ
URL:https://sazps.sk/udalosti/volebne-valne-zhromazdenie-do-organov-sazps/
LOCATION:Hotel Impozant\, Valčianska dolina\, Valčianska dolina 205\, Valča\, 038 35\, Slovenská republika
CATEGORIES:Zasadnutia a zhromaždenia
ORGANIZER;CN="Slovensk%C3%A1%20asoci%C3%A1cia%20zrakovo%20postihnut%C3%BDch%20%C5%A1portovcov":MAILTO:predseda@sazps.sk
END:VEVENT
END:VCALENDAR