BEGIN:VCALENDAR
VERSION:2.0
PRODID:-//Slovenská asociácia zrakovo postihnutých športovcov - ECPv5.16.4//NONSGML v1.0//EN
CALSCALE:GREGORIAN
METHOD:PUBLISH
X-WR-CALNAME:Slovenská asociácia zrakovo postihnutých športovcov
X-ORIGINAL-URL:https://sazps.sk
X-WR-CALDESC:Udalosti pre Slovenská asociácia zrakovo postihnutých športovcov
BEGIN:VTIMEZONE
TZID:Europe/Bratislava
BEGIN:DAYLIGHT
TZOFFSETFROM:+0100
TZOFFSETTO:+0200
TZNAME:CEST
DTSTART:20250330T010000
END:DAYLIGHT
BEGIN:STANDARD
TZOFFSETFROM:+0200
TZOFFSETTO:+0100
TZNAME:CET
DTSTART:20251026T010000
END:STANDARD
END:VTIMEZONE
BEGIN:VEVENT
DTSTART;TZID=Europe/Bratislava:20250226T150000
DTEND;TZID=Europe/Bratislava:20250302T110000
DTSTAMP:20260422T161433
CREATED:20250122T143149Z
LAST-MODIFIED:20250122T143508Z
UID:1988-1740582000-1740913200@sazps.sk
SUMMARY:Showdown Slovak Open 2025
DESCRIPTION:
URL:https://sazps.sk/udalosti/showdown-slovak-open-2025/
LOCATION:Xbionic Sphere\, Dubová 33/A\, Šamorín\, 93101\, Slovenská republika
CATEGORIES:Aplikovaný stolný tenis (Showdown)
ATTACH;FMTTYPE=image/png:https://sazps.sk/wp-content/uploads/2025/01/x-bionic.png
ORGANIZER;CN="Blind%20Sports%20Club%20Slovakia":MAILTO:predseda@bscslovakia.sk
END:VEVENT
END:VCALENDAR