BEGIN:VCALENDAR
VERSION:2.0
PRODID:-//Slovenská asociácia zrakovo postihnutých športovcov - ECPv5.16.4//NONSGML v1.0//EN
CALSCALE:GREGORIAN
METHOD:PUBLISH
X-WR-CALNAME:Slovenská asociácia zrakovo postihnutých športovcov
X-ORIGINAL-URL:https://sazps.sk
X-WR-CALDESC:Udalosti pre Slovenská asociácia zrakovo postihnutých športovcov
BEGIN:VTIMEZONE
TZID:Europe/Bratislava
BEGIN:DAYLIGHT
TZOFFSETFROM:+0100
TZOFFSETTO:+0200
TZNAME:CEST
DTSTART:20230326T010000
END:DAYLIGHT
BEGIN:STANDARD
TZOFFSETFROM:+0200
TZOFFSETTO:+0100
TZNAME:CET
DTSTART:20231029T010000
END:STANDARD
END:VTIMEZONE
BEGIN:VEVENT
DTSTART;TZID=Europe/Bratislava:20230215T140000
DTEND;TZID=Europe/Bratislava:20230219T120000
DTSTAMP:20260422T201738
CREATED:20230206T100238Z
LAST-MODIFIED:20230206T101848Z
UID:1009-1676469600-1676808000@sazps.sk
SUMMARY:SHOWDOWN SLOVAK OPEN 2023
DESCRIPTION:Prvý ročník medzinárodného bodovaného turnaja IBSA v Aplikovanom stolnom tenise | Showdown.
URL:https://sazps.sk/udalosti/showdown-slovak-open-2023/
LOCATION:Xbionic Sphere\, Dubová 33/A\, Šamorín\, 93101\, Slovenská republika
CATEGORIES:Aplikovaný stolný tenis (Showdown)
ORGANIZER;CN="Slovensk%C3%A1%20asoci%C3%A1cia%20zrakovo%20postihnut%C3%BDch%20%C5%A1portovcov":MAILTO:predseda@sazps.sk
END:VEVENT
END:VCALENDAR