BEGIN:VCALENDAR
VERSION:2.0
PRODID:-//Slovenská asociácia zrakovo postihnutých športovcov - ECPv5.16.4//NONSGML v1.0//EN
CALSCALE:GREGORIAN
METHOD:PUBLISH
X-WR-CALNAME:Slovenská asociácia zrakovo postihnutých športovcov
X-ORIGINAL-URL:https://sazps.sk
X-WR-CALDESC:Udalosti pre Slovenská asociácia zrakovo postihnutých športovcov
BEGIN:VTIMEZONE
TZID:Europe/Bratislava
BEGIN:DAYLIGHT
TZOFFSETFROM:+0100
TZOFFSETTO:+0200
TZNAME:CEST
DTSTART:20250330T010000
END:DAYLIGHT
BEGIN:STANDARD
TZOFFSETFROM:+0200
TZOFFSETTO:+0100
TZNAME:CET
DTSTART:20251026T010000
END:STANDARD
END:VTIMEZONE
BEGIN:VEVENT
DTSTART;TZID=Europe/Bratislava:20250425T170000
DTEND;TZID=Europe/Bratislava:20250427T120000
DTSTAMP:20260422T102231
CREATED:20250123T143237Z
LAST-MODIFIED:20250123T143237Z
UID:2013-1745600400-1745755200@sazps.sk
SUMMARY:Medzinárodný turnaj jednotlivcov | Žilina
DESCRIPTION:
URL:https://sazps.sk/udalosti/medzinarodny-turnaj-jednotlivcov-zilina/
LOCATION:Základná a materská škola\, Gaštanová\, Žilina\, Gaštanová 56\, Žilina\, Slovensko\, 01007\, Slovenská republika
CATEGORIES:Aplikovaný stolný tenis (Showdown)
ATTACH;FMTTYPE=image/jpeg:https://sazps.sk/wp-content/uploads/2025/01/ZS-Gastanova-Zilina.jpg
ORGANIZER;CN="M%C5%A0K%20NS%C5%A0%20%C5%BDilina":MAILTO:husarmiro@azet.sk
END:VEVENT
END:VCALENDAR