BEGIN:VCALENDAR
VERSION:2.0
PRODID:-//Slovenská asociácia zrakovo postihnutých športovcov - ECPv5.16.4//NONSGML v1.0//EN
CALSCALE:GREGORIAN
METHOD:PUBLISH
X-WR-CALNAME:Slovenská asociácia zrakovo postihnutých športovcov
X-ORIGINAL-URL:https://sazps.sk
X-WR-CALDESC:Udalosti pre Slovenská asociácia zrakovo postihnutých športovcov
BEGIN:VTIMEZONE
TZID:Europe/Bratislava
BEGIN:DAYLIGHT
TZOFFSETFROM:+0100
TZOFFSETTO:+0200
TZNAME:CEST
DTSTART:20250330T010000
END:DAYLIGHT
BEGIN:STANDARD
TZOFFSETFROM:+0200
TZOFFSETTO:+0100
TZNAME:CET
DTSTART:20251026T010000
END:STANDARD
END:VTIMEZONE
BEGIN:VEVENT
DTSTART;VALUE=DATE:20250925
DTEND;VALUE=DATE:20250929
DTSTAMP:20260422T131005
CREATED:20250211T144753Z
LAST-MODIFIED:20250416T120630Z
UID:2072-1758758400-1759103999@sazps.sk
SUMMARY:Majstrovstvá SR jednotlivcov zrakovo postihnutých v šachu
DESCRIPTION:Miesto konanie \nHotel Čingov
URL:https://sazps.sk/udalosti/majstrovstva-sr-jednotlivcov-zrakovo-postihnutych-v-sachu/
LOCATION:Park Hotel Čingov\, Park Hotel Čingov\, Smižany\, 05311\, Slovenská republika
CATEGORIES:Šach
ATTACH;FMTTYPE=image/jpeg:https://sazps.sk/wp-content/uploads/2025/02/Park-hotel-cingov.jpg
END:VEVENT
END:VCALENDAR