BEGIN:VCALENDAR
VERSION:2.0
PRODID:-//Slovenská asociácia zrakovo postihnutých športovcov - ECPv5.16.4//NONSGML v1.0//EN
CALSCALE:GREGORIAN
METHOD:PUBLISH
X-WR-CALNAME:Slovenská asociácia zrakovo postihnutých športovcov
X-ORIGINAL-URL:https://sazps.sk
X-WR-CALDESC:Udalosti pre Slovenská asociácia zrakovo postihnutých športovcov
BEGIN:VTIMEZONE
TZID:Europe/Bratislava
BEGIN:DAYLIGHT
TZOFFSETFROM:+0100
TZOFFSETTO:+0200
TZNAME:CEST
DTSTART:20250330T010000
END:DAYLIGHT
BEGIN:STANDARD
TZOFFSETFROM:+0200
TZOFFSETTO:+0100
TZNAME:CET
DTSTART:20251026T010000
END:STANDARD
END:VTIMEZONE
BEGIN:VEVENT
DTSTART;TZID=Europe/Bratislava:20250314T170000
DTEND;TZID=Europe/Bratislava:20250316T130000
DTSTAMP:20260422T144432
CREATED:20250122T142919Z
LAST-MODIFIED:20250122T143703Z
UID:1985-1741971600-1742130000@sazps.sk
SUMMARY:Kvalifikácia na Majstrovstvá Slovenska v AST - Showdown
DESCRIPTION:Vážení športoví priatelia\, \nradi by sme vás informovali o konaní kvalifikácie na Majstrovstvá Slovenska v Aplikovanom stolnom tenise | Showdown 2025\, ktorý sa uskutočni v termíne 14. – 16. marca 2025 v Strečne. \nJe potrebné zo strany klubov nahlásiť účasť svojich hráčov na kvalifikačnom turnaji do 23.2.2025 do 23:59 h. \nPodrobné informácie a kontakty nájdete v priložených dokumentoch nižšie. \nPozvánka na kvalifikačný turnaj v AST 2025\nPrihláška na kvalifikačný turnaj AST 2025 Propozície na kvalifikačný turnaj AST 2025 \n  \n 
URL:https://sazps.sk/udalosti/kvalifikacia-na-majstrovstva-slovenska-v-ast-showdown/
LOCATION:SIP Strečno\, Sokolovská 375\, Strečno\, 01324\, Slovenská republika
CATEGORIES:Aplikovaný stolný tenis (Showdown)
ATTACH;FMTTYPE=image/jpeg:https://sazps.sk/wp-content/uploads/2024/03/sip-strecno.jpg
ORGANIZER;CN="%C5%A0portov%C3%BD%20klub%20nevidiacich%20a%20slabozrak%C3%BDch%20%C5%A1portovcov%20DINOSAURUS%20Bratislava":MAILTO:ingrid.tkacikova@gmail.com
END:VEVENT
END:VCALENDAR