BEGIN:VCALENDAR
VERSION:2.0
PRODID:-//Slovenská asociácia zrakovo postihnutých športovcov - ECPv5.16.4//NONSGML v1.0//EN
CALSCALE:GREGORIAN
METHOD:PUBLISH
X-WR-CALNAME:Slovenská asociácia zrakovo postihnutých športovcov
X-ORIGINAL-URL:https://sazps.sk
X-WR-CALDESC:Udalosti pre Slovenská asociácia zrakovo postihnutých športovcov
BEGIN:VTIMEZONE
TZID:Europe/Bratislava
BEGIN:DAYLIGHT
TZOFFSETFROM:+0100
TZOFFSETTO:+0200
TZNAME:CEST
DTSTART:20240331T010000
END:DAYLIGHT
BEGIN:STANDARD
TZOFFSETFROM:+0200
TZOFFSETTO:+0100
TZNAME:CET
DTSTART:20241027T010000
END:STANDARD
END:VTIMEZONE
BEGIN:VEVENT
DTSTART;TZID=Europe/Bratislava:20240503T170000
DTEND;TZID=Europe/Bratislava:20240505T120000
DTSTAMP:20260422T114247
CREATED:20240319T080913Z
LAST-MODIFIED:20240404T153623Z
UID:1612-1714755600-1714910400@sazps.sk
SUMMARY:Kvalifikácia na Majstrovstvá Slovenska 2024 v AST – Showdown
DESCRIPTION:Najneskorší termín na prihlásenie: 21.4.2024\nÚčastníkov prosíme\, aby sa nahlasovali e-mailom\, alebo telefonicky. \nKontaktná osoba: Miroslav Marcinko\nTel. kontakt: 0907 466 824\nE-mail: marcinko@bscslovakia.sk \nNa Kvalifikáciu sa neprihlasujú prvé štyri ženy z Majstrovstiev Slovenska v AST v roku 2023 a prví šiesti muži z Majstrovstiev Slovenska v AST v roku 2023. Títo postupujú na Majstrovstvá Slovenska 2024 automaticky. \nViac informácií o Kvalifikácií nájdete v PROPOZÍCIACH \n  \nPropozície Kvalifikácia na Majstrovstvá SR v AST\n  \n 
URL:https://sazps.sk/udalosti/kvalifikacia-na-majstrovstva-slovanska-2024-v-ast-showdown/
LOCATION:ŽSR SIP STREČNO\, Sokolská 375\, Strečno\, Žilinský kraj\, 01324\, Slovenská republika
CATEGORIES:Aplikovaný stolný tenis (Showdown)
ATTACH;FMTTYPE=image/jpeg:https://sazps.sk/wp-content/uploads/2024/03/sip-strecno.jpg
ORGANIZER;CN="Blind%20Sports%20Club%20Slovakia":MAILTO:predseda@bscslovakia.sk
END:VEVENT
END:VCALENDAR