BEGIN:VCALENDAR
VERSION:2.0
PRODID:-//Slovenská asociácia zrakovo postihnutých športovcov - ECPv5.16.4//NONSGML v1.0//EN
CALSCALE:GREGORIAN
METHOD:PUBLISH
X-WR-CALNAME:Slovenská asociácia zrakovo postihnutých športovcov
X-ORIGINAL-URL:https://sazps.sk
X-WR-CALDESC:Udalosti pre Slovenská asociácia zrakovo postihnutých športovcov
BEGIN:VTIMEZONE
TZID:Europe/Bratislava
BEGIN:DAYLIGHT
TZOFFSETFROM:+0100
TZOFFSETTO:+0200
TZNAME:CEST
DTSTART:20250330T010000
END:DAYLIGHT
BEGIN:STANDARD
TZOFFSETFROM:+0200
TZOFFSETTO:+0100
TZNAME:CET
DTSTART:20251026T010000
END:STANDARD
END:VTIMEZONE
BEGIN:VEVENT
DTSTART;VALUE=DATE:20250817
DTEND;VALUE=DATE:20250830
DTSTAMP:20260422T131102
CREATED:20250211T143849Z
LAST-MODIFIED:20250211T143916Z
UID:2068-1755388800-1756511999@sazps.sk
SUMMARY:IBCA MS Jednotlivcov v klasickom a rapid šachu
DESCRIPTION:
URL:https://sazps.sk/udalosti/ibca-ms-jednotlivcov-v-klasickom-a-rapid-sachu/
LOCATION:Rzeszow\, Rzeszow\, Poľsko
CATEGORIES:Šach
ATTACH;FMTTYPE=image/jpeg:https://sazps.sk/wp-content/uploads/2025/02/Rzeszow-scaled.jpg
END:VEVENT
END:VCALENDAR