BEGIN:VCALENDAR
VERSION:2.0
PRODID:-//Slovenská asociácia zrakovo postihnutých športovcov - ECPv5.16.4//NONSGML v1.0//EN
CALSCALE:GREGORIAN
METHOD:PUBLISH
X-WR-CALNAME:Slovenská asociácia zrakovo postihnutých športovcov
X-ORIGINAL-URL:https://sazps.sk
X-WR-CALDESC:Udalosti pre Slovenská asociácia zrakovo postihnutých športovcov
BEGIN:VTIMEZONE
TZID:Europe/Bratislava
BEGIN:DAYLIGHT
TZOFFSETFROM:+0100
TZOFFSETTO:+0200
TZNAME:CEST
DTSTART:20220327T010000
END:DAYLIGHT
BEGIN:STANDARD
TZOFFSETFROM:+0200
TZOFFSETTO:+0100
TZNAME:CET
DTSTART:20221030T010000
END:STANDARD
END:VTIMEZONE
BEGIN:VEVENT
DTSTART;VALUE=DATE:20220930
DTEND;VALUE=DATE:20221003
DTSTAMP:20260422T224139
CREATED:20220930T121233Z
LAST-MODIFIED:20220930T121555Z
UID:895-1664496000-1664755199@sazps.sk
SUMMARY:Celonárodné sústredenie v AST - Strečno 2022
DESCRIPTION:Rozpis zápasov a výsledky zo sústredenia môžete sledovať na nasledujúcom odkaze: \nhttps://gameresultsonline.com/slovenska-asociacia-zrakovo-postihnutych-sportovcov/celonarodne-treningove-sustredenie-strecno-2022/7784/games \n  \n          SLOVENSKÁ ASOCIÁCIA ZRAKOVO\n\n\n\n\n\n\n\n\n\n\n\nPOSTIHNUTÝCH ŠPORTOVCOV\nAdresa: Rosina 497\, 013 22 Rosina \n                                          PROPOZÍCIE \ntréningového sústredenia v Strečne \n  \nVšeobecné ustanovenia: \nVyhlasovateľ: Slovenská asociácia zrakovo postihnutých športovcov \nUsporiadateľ: Predsedníčka KAST Ľudmila Šišáková \nTermín konania: 30.09.-02.10.2022 \nMiesto konania: SIP STReČNO\, Sokolovská 375\, 013 24 Strečno \n  \nOrganizačný výbor: Ľudmila Šišáková\, Mgr. Peter Ďuroška \n  \nUbytovanie: SIP STRČNO\, Sokolovská 375\, 013 24 Strečno \nUbytovanie je zabezpečené v dvojpostelových izbách \nMožnosť Ubytovania  30.09.2022 od 14\,00hod. \nV areáli možnosť doplnkových služieb -bazén\, sauna\, posilňovňa a pod.\,ktoré si každý           účastník hradí sám. \n  \nProgram je nasledovný: \nStravovanie: 30.09.2022/piatok/-večera   18\,00hod. v priestore jedálne \n01.10.2022/sobota/-raňajky 07\,00-08\,00hod. \n08\,30hod.-zahájenie tréningového sústredenia\, trénovať sa bude turnajovým spôsobom. \n-obed      12\,00.-13\,00hod. \n14\,00 – pokračovanie tréningu \n-večera    18\,00 hod. \nPo večery možnosť využiť doplnkové služby. \n02.10.2022/nedeľa/-raňajky  07\,00hod. \n08\,00hod. – pokračovanie v tréningu \n11.30hod – ukončenie tréningového sústredenia \n-obed         12\,00hod a odchod domov \n  \nDoprava: 30.09.2022:autobus Žilina – Strečno z nástupišťa č.7 o 14\,20 alebo 14\,40hod. a vystúpiť v Strečno – O C U \n  \nUbytovanie \, stravu a prenájom troch miestností na tréning hradí slovenská asociácia zrakovo postihnutých športovcov. \nTešíme sa na Vašu účasť.                                                   Predsedníčka KAST  Ľudmila Šišáková
URL:https://sazps.sk/udalosti/celonarodne-sustredenie-v-ast-strecno-2022/
LOCATION:SIP Strečno\, Sokolovská 375\, Strečno\, 01324\, Slovenská republika
CATEGORIES:Aplikovaný stolný tenis (Showdown)
ORGANIZER;CN="Slovensk%C3%A1%20asoci%C3%A1cia%20zrakovo%20postihnut%C3%BDch%20%C5%A1portovcov":MAILTO:predseda@sazps.sk
END:VEVENT
END:VCALENDAR