BEGIN:VCALENDAR
VERSION:2.0
PRODID:-//Slovenská asociácia zrakovo postihnutých športovcov - ECPv5.16.4//NONSGML v1.0//EN
CALSCALE:GREGORIAN
METHOD:PUBLISH
X-WR-CALNAME:Slovenská asociácia zrakovo postihnutých športovcov
X-ORIGINAL-URL:https://sazps.sk
X-WR-CALDESC:Udalosti pre Slovenská asociácia zrakovo postihnutých športovcov
BEGIN:VTIMEZONE
TZID:Europe/Bratislava
BEGIN:DAYLIGHT
TZOFFSETFROM:+0100
TZOFFSETTO:+0200
TZNAME:CEST
DTSTART:20240331T010000
END:DAYLIGHT
BEGIN:STANDARD
TZOFFSETFROM:+0200
TZOFFSETTO:+0100
TZNAME:CET
DTSTART:20241027T010000
END:STANDARD
END:VTIMEZONE
BEGIN:VEVENT
DTSTART;TZID=Europe/Bratislava:20240524T160000
DTEND;TZID=Europe/Bratislava:20240526T120000
DTSTAMP:20260422T103707
CREATED:20240319T081648Z
LAST-MODIFIED:20240319T081833Z
UID:1617-1716566400-1716724800@sazps.sk
SUMMARY:30. ročník Majstrovstiev Slovenska 2024 v AST – Showdown
DESCRIPTION:
URL:https://sazps.sk/udalosti/30-rocnik-majstrovstiev-slovenska-2024-v-ast-showdown/
LOCATION:Základná a materská škola\, Gaštanová\, Žilina\, Gaštanová 56\, Žilina\, Slovensko\, 01007\, Slovenská republika
CATEGORIES:Aplikovaný stolný tenis (Showdown)
ATTACH;FMTTYPE=image/jpeg:https://sazps.sk/wp-content/uploads/2024/03/ZS-Gastanova.jpg
ORGANIZER;CN="M%C5%A0K%20NS%C5%A0%20%C5%BDilina":MAILTO:husarmiro@azet.sk
END:VEVENT
END:VCALENDAR