BEGIN:VCALENDAR
VERSION:2.0
PRODID:-//Slovenská asociácia zrakovo postihnutých športovcov - ECPv5.16.4//NONSGML v1.0//EN
CALSCALE:GREGORIAN
METHOD:PUBLISH
X-WR-CALNAME:Slovenská asociácia zrakovo postihnutých športovcov
X-ORIGINAL-URL:https://sazps.sk
X-WR-CALDESC:Udalosti pre Slovenská asociácia zrakovo postihnutých športovcov
BEGIN:VTIMEZONE
TZID:Europe/Bratislava
BEGIN:DAYLIGHT
TZOFFSETFROM:+0100
TZOFFSETTO:+0200
TZNAME:CEST
DTSTART:20260329T010000
END:DAYLIGHT
BEGIN:STANDARD
TZOFFSETFROM:+0200
TZOFFSETTO:+0100
TZNAME:CET
DTSTART:20261025T010000
END:STANDARD
END:VTIMEZONE
BEGIN:VEVENT
DTSTART;VALUE=DATE:20260425
DTEND;VALUE=DATE:20260426
DTSTAMP:20260422T102412
CREATED:20260120T134320Z
LAST-MODIFIED:20260120T134320Z
UID:2512-1777075200-1777161599@sazps.sk
SUMMARY:Turnaj jednotlivcov v AST Žilina
DESCRIPTION:
URL:https://sazps.sk/udalosti/turnaj-jednotlivcov-v-ast-zilina/
LOCATION:Základná a materská škola\, Gaštanová\, Žilina\, Gaštanová 56\, Žilina\, Slovensko\, 01007\, Slovenská republika
CATEGORIES:Aplikovaný stolný tenis (Showdown)
ATTACH;FMTTYPE=image/jpeg:https://sazps.sk/wp-content/uploads/2025/01/ZS-Gastanova-Zilina.jpg
ORGANIZER;CN="M%C5%A0K%20NS%C5%A0%20%C5%BDilina":MAILTO:husarmiro@azet.sk
END:VEVENT
BEGIN:VEVENT
DTSTART;TZID=Europe/Bratislava:20260508T160000
DTEND;TZID=Europe/Bratislava:20260510T100000
DTSTAMP:20260422T102412
CREATED:20260120T134533Z
LAST-MODIFIED:20260330T073804Z
UID:2514-1778256000-1778407200@sazps.sk
SUMMARY:ZRUŠENÉ Bratislava Showdown Chalenge 2026
DESCRIPTION:!!! PODUJATIE JE ZRUŠENÉ !!!
URL:https://sazps.sk/udalosti/bratislava-showdown-chalenge-2026/
LOCATION:Bratislava\, Bratislava\, 81101\, Slovenská republika
CATEGORIES:Aplikovaný stolný tenis (Showdown)
ATTACH;FMTTYPE=image/jpeg:https://sazps.sk/wp-content/uploads/2025/03/bratislava.jpg
ORGANIZER;CN="%C5%A0portov%C3%BD%20klub%20nevidiacich%20a%20slabozrak%C3%BDch%20%C5%A1portovcov%20DINOSAURUS%20Bratislava":MAILTO:ingrid.tkacikova@gmail.com
END:VEVENT
BEGIN:VEVENT
DTSTART;VALUE=DATE:20260514
DTEND;VALUE=DATE:20260518
DTSTAMP:20260422T102412
CREATED:20260120T134819Z
LAST-MODIFIED:20260120T135042Z
UID:2516-1778716800-1779062399@sazps.sk
SUMMARY:Showdown Pelt 2026
DESCRIPTION:Medzinárodný nebodovaný turnaj v belgickom meste Pelt
URL:https://sazps.sk/udalosti/showdown-pelt-2026/
LOCATION:Slovensko
CATEGORIES:Aplikovaný stolný tenis (Showdown)
END:VEVENT
BEGIN:VEVENT
DTSTART;VALUE=DATE:20260528
DTEND;VALUE=DATE:20260601
DTSTAMP:20260422T102412
CREATED:20260120T135416Z
LAST-MODIFIED:20260120T135453Z
UID:2518-1779926400-1780271999@sazps.sk
SUMMARY:International Showdown Tournament Litva 2026
DESCRIPTION:Medzinárodný IBSA bodovaný turnaj\, ktorý sa koná v Litve.
URL:https://sazps.sk/udalosti/international-showdown-tournament-litva-2026/
LOCATION:Slovensko
CATEGORIES:Aplikovaný stolný tenis (Showdown)
END:VEVENT
BEGIN:VEVENT
DTSTART;VALUE=DATE:20260718
DTEND;VALUE=DATE:20260719
DTSTAMP:20260422T102412
CREATED:20260120T135807Z
LAST-MODIFIED:20260120T135807Z
UID:2520-1784332800-1784419199@sazps.sk
SUMMARY:Turnaj jednotlivcov AST Košice 2026
DESCRIPTION:
URL:https://sazps.sk/udalosti/turnaj-jednotlivcov-ast-kosice-2026/
LOCATION:Galaktická 9 Košice\, Galaktická 2226/9\, Košice\, Košický kraj\, 04012\, Slovenská republika
CATEGORIES:Aplikovaný stolný tenis (Showdown)
ATTACH;FMTTYPE=image/jpeg:https://sazps.sk/wp-content/uploads/2024/03/kosice.jpg
ORGANIZER;CN="HSC%20Mravce%20Ko%C5%A1ice":MAILTO:ciernikova.lubica@gmail.com
END:VEVENT
BEGIN:VEVENT
DTSTART;VALUE=DATE:20260905
DTEND;VALUE=DATE:20260906
DTSTAMP:20260422T102412
CREATED:20260120T140014Z
LAST-MODIFIED:20260120T140014Z
UID:2522-1788566400-1788652799@sazps.sk
SUMMARY:Turnaj dvojíc Žilina
DESCRIPTION:
URL:https://sazps.sk/udalosti/turnaj-dvojic-zilina/
LOCATION:Základná a materská škola\, Gaštanová\, Žilina\, Gaštanová 56\, Žilina\, Slovensko\, 01007\, Slovenská republika
CATEGORIES:Aplikovaný stolný tenis (Showdown)
ATTACH;FMTTYPE=image/jpeg:https://sazps.sk/wp-content/uploads/2025/01/ZS-Gastanova-Zilina.jpg
ORGANIZER;CN="M%C5%A0K%20NS%C5%A0%20%C5%BDilina":MAILTO:husarmiro@azet.sk
END:VEVENT
BEGIN:VEVENT
DTSTART;VALUE=DATE:20261128
DTEND;VALUE=DATE:20261130
DTSTAMP:20260422T102412
CREATED:20260120T140357Z
LAST-MODIFIED:20260120T141605Z
UID:2524-1795824000-1795996799@sazps.sk
SUMMARY:SHOWDOWN STAR CUP Prešov 2026
DESCRIPTION:Prvý ročník turnaja v Prešove.
URL:https://sazps.sk/udalosti/showdown-star-cup-presov-2026/
LOCATION:presov\, Prešov\, Prešovský kraj\, 08001\, Slovenská republika
CATEGORIES:Aplikovaný stolný tenis (Showdown)
ATTACH;FMTTYPE=image/jpeg:https://sazps.sk/wp-content/uploads/2026/01/Presov.jpg
END:VEVENT
BEGIN:VEVENT
DTSTART;VALUE=DATE:20261205
DTEND;VALUE=DATE:20261206
DTSTAMP:20260422T102412
CREATED:20260120T140651Z
LAST-MODIFIED:20260120T140806Z
UID:2528-1796428800-1796515199@sazps.sk
SUMMARY:Turnaj jednotlivcov AST Levoča 2026
DESCRIPTION:
URL:https://sazps.sk/udalosti/turnaj-jednotlivcov-ast-levoca-2026/
LOCATION:Základná škola pre nevidiacich a slabozrakých\, Levoča\, Námestie Štefana Kluberta 676/2\, Levoča\, 05401\, Slovenská republika
CATEGORIES:Aplikovaný stolný tenis (Showdown)
ATTACH;FMTTYPE=image/jpeg:https://sazps.sk/wp-content/uploads/2024/03/levoca.jpg
END:VEVENT
END:VCALENDAR